BEGIN:VCALENDAR
VERSION:2.0
PRODID:-// - ECPv5.4.0.2//NONSGML v1.0//EN
CALSCALE:GREGORIAN
METHOD:PUBLISH
X-ORIGINAL-URL:http://prairielanelakepark.com
X-WR-CALDESC:Events for 
BEGIN:VTIMEZONE
TZID:America/New_York
BEGIN:DAYLIGHT
TZOFFSETFROM:-0500
TZOFFSETTO:-0400
TZNAME:EDT
DTSTART:20250309T070000
END:DAYLIGHT
BEGIN:STANDARD
TZOFFSETFROM:-0400
TZOFFSETTO:-0500
TZNAME:EST
DTSTART:20251102T060000
END:STANDARD
END:VTIMEZONE
BEGIN:VEVENT
DTSTART;TZID=America/New_York:20250830T080000
DTEND;TZID=America/New_York:20250830T110000
DTSTAMP:20260420T190319
CREATED:20250306T152657Z
LAST-MODIFIED:20250522T205713Z
UID:871-1756540800-1756551600@prairielanelakepark.com
SUMMARY:Fishing Tournament
DESCRIPTION:Late registration starts at 8am at pavilion. Fishing Tournament starts at 8:30am at the sound of the bullhorn. It will end with the sound of the bullhorn at 11:30am. Bring your best fish directly to judging next to the pavilion. Lunch for those who entered the fishing tournament will begin at 12pm. There will be an adult category and a child’s category. Pre registration will  be on the office door starting in Aug.
URL:http://prairielanelakepark.com/event/fishing-tournament-3/
END:VEVENT
END:VCALENDAR