BEGIN:VCALENDAR
VERSION:2.0
PRODID:-// - ECPv5.4.0.2//NONSGML v1.0//EN
CALSCALE:GREGORIAN
METHOD:PUBLISH
X-ORIGINAL-URL:http://prairielanelakepark.com
X-WR-CALDESC:Events for 
BEGIN:VTIMEZONE
TZID:America/New_York
BEGIN:DAYLIGHT
TZOFFSETFROM:-0500
TZOFFSETTO:-0400
TZNAME:EDT
DTSTART:20250309T070000
END:DAYLIGHT
BEGIN:STANDARD
TZOFFSETFROM:-0400
TZOFFSETTO:-0500
TZNAME:EST
DTSTART:20251102T060000
END:STANDARD
END:VTIMEZONE
BEGIN:VEVENT
DTSTART;TZID=America/New_York:20250719T170000
DTEND;TZID=America/New_York:20250719T230000
DTSTAMP:20260423T070510
CREATED:20250306T151456Z
LAST-MODIFIED:20250715T145002Z
UID:869-1752944400-1752966000@prairielanelakepark.com
SUMMARY:Luau and Rib Burn Off at the Swim Lake
DESCRIPTION:Judging at 5\, eat soon after.   Please bring a dish to share.  We are providing a hog for some extra meat this year.
URL:http://prairielanelakepark.com/event/luau-and-rib-smoke-at-the-swim-lake/
END:VEVENT
END:VCALENDAR