BEGIN:VCALENDAR
VERSION:2.0
PRODID:-// - ECPv5.4.0.2//NONSGML v1.0//EN
CALSCALE:GREGORIAN
METHOD:PUBLISH
X-ORIGINAL-URL:http://prairielanelakepark.com
X-WR-CALDESC:Events for 
BEGIN:VTIMEZONE
TZID:America/New_York
BEGIN:DAYLIGHT
TZOFFSETFROM:-0500
TZOFFSETTO:-0400
TZNAME:EDT
DTSTART:20250309T070000
END:DAYLIGHT
BEGIN:STANDARD
TZOFFSETFROM:-0400
TZOFFSETTO:-0500
TZNAME:EST
DTSTART:20251102T060000
END:STANDARD
END:VTIMEZONE
BEGIN:VEVENT
DTSTART;TZID=America/New_York:20250524T120000
DTEND;TZID=America/New_York:20250524T130000
DTSTAMP:20260424T024227
CREATED:20250306T144415Z
LAST-MODIFIED:20250306T144415Z
UID:859-1748088000-1748091600@prairielanelakepark.com
SUMMARY:Memorial Weekend Golf Cart Parade
DESCRIPTION:Meet and  line-up at 11:45 on the road North of site 446.  We roll at noon!
URL:http://prairielanelakepark.com/event/memorial-weekend-golf-cart-parade/
END:VEVENT
END:VCALENDAR