BEGIN:VCALENDAR
VERSION:2.0
PRODID:-// - ECPv5.4.0.2//NONSGML v1.0//EN
CALSCALE:GREGORIAN
METHOD:PUBLISH
X-ORIGINAL-URL:http://prairielanelakepark.com
X-WR-CALDESC:Events for 
BEGIN:VTIMEZONE
TZID:America/New_York
BEGIN:DAYLIGHT
TZOFFSETFROM:-0500
TZOFFSETTO:-0400
TZNAME:EDT
DTSTART:20250309T070000
END:DAYLIGHT
BEGIN:STANDARD
TZOFFSETFROM:-0400
TZOFFSETTO:-0500
TZNAME:EST
DTSTART:20251102T060000
END:STANDARD
END:VTIMEZONE
BEGIN:VEVENT
DTSTART;TZID=America/New_York:20250802T080000
DTEND;TZID=America/New_York:20250802T220000
DTSTAMP:20260421T030456
CREATED:20241223T154548Z
LAST-MODIFIED:20241223T154548Z
UID:838-1754121600-1754172000@prairielanelakepark.com
SUMMARY:Pavilion Reserved
DESCRIPTION:
URL:http://prairielanelakepark.com/event/pavilion-reserved-42/
END:VEVENT
END:VCALENDAR