BEGIN:VCALENDAR
VERSION:2.0
PRODID:-// - ECPv5.4.0.2//NONSGML v1.0//EN
CALSCALE:GREGORIAN
METHOD:PUBLISH
X-ORIGINAL-URL:http://prairielanelakepark.com
X-WR-CALDESC:Events for 
BEGIN:VTIMEZONE
TZID:America/New_York
BEGIN:DAYLIGHT
TZOFFSETFROM:-0500
TZOFFSETTO:-0400
TZNAME:EDT
DTSTART:20250309T070000
END:DAYLIGHT
BEGIN:STANDARD
TZOFFSETFROM:-0400
TZOFFSETTO:-0500
TZNAME:EST
DTSTART:20251102T060000
END:STANDARD
END:VTIMEZONE
BEGIN:VEVENT
DTSTART;TZID=America/New_York:20250920T080000
DTEND;TZID=America/New_York:20250920T220000
DTSTAMP:20260420T104613
CREATED:20241223T154620Z
LAST-MODIFIED:20241223T154620Z
UID:840-1758355200-1758405600@prairielanelakepark.com
SUMMARY:Pavilion Reserved
DESCRIPTION:
URL:http://prairielanelakepark.com/event/pavilion-reserved-43/
END:VEVENT
END:VCALENDAR